BEGIN:VCALENDAR
VERSION:2.0
PRODID:-//Marina Port Valencia - ECPv6.15.17.1//NONSGML v1.0//EN
CALSCALE:GREGORIAN
METHOD:PUBLISH
X-WR-CALNAME:Marina Port Valencia
X-ORIGINAL-URL:https://marinaportvalencia.es/en/
X-WR-CALDESC:Events for Marina Port Valencia
REFRESH-INTERVAL;VALUE=DURATION:PT1H
X-Robots-Tag:noindex
X-PUBLISHED-TTL:PT1H
BEGIN:VTIMEZONE
TZID:Europe/Madrid
BEGIN:DAYLIGHT
TZOFFSETFROM:+0100
TZOFFSETTO:+0200
TZNAME:CEST
DTSTART:20240331T010000
END:DAYLIGHT
BEGIN:STANDARD
TZOFFSETFROM:+0200
TZOFFSETTO:+0100
TZNAME:CET
DTSTART:20241027T010000
END:STANDARD
BEGIN:DAYLIGHT
TZOFFSETFROM:+0100
TZOFFSETTO:+0200
TZNAME:CEST
DTSTART:20250330T010000
END:DAYLIGHT
BEGIN:STANDARD
TZOFFSETFROM:+0200
TZOFFSETTO:+0100
TZNAME:CET
DTSTART:20251026T010000
END:STANDARD
BEGIN:DAYLIGHT
TZOFFSETFROM:+0100
TZOFFSETTO:+0200
TZNAME:CEST
DTSTART:20260329T010000
END:DAYLIGHT
BEGIN:STANDARD
TZOFFSETFROM:+0200
TZOFFSETTO:+0100
TZNAME:CET
DTSTART:20261025T010000
END:STANDARD
END:VTIMEZONE
BEGIN:VEVENT
DTSTART;VALUE=DATE:20251214
DTEND;VALUE=DATE:20251215
DTSTAMP:20260423T023708
CREATED:20250917T110026Z
LAST-MODIFIED:20251119T123700Z
UID:1948-1765670400-1765756799@marinaportvalencia.es
SUMMARY:37th Pas Ras to the Port of Valencia
DESCRIPTION:
URL:https://marinaportvalencia.es/en/event/37th-pas-ras-to-the-port-of-valencia/
END:VEVENT
BEGIN:VEVENT
DTSTART;TZID=Europe/Madrid:20251024T080000
DTEND;TZID=Europe/Madrid:20251026T170000
DTSTAMP:20260423T023708
CREATED:20250917T105929Z
LAST-MODIFIED:20251002T122613Z
UID:1951-1761292800-1761498000@marinaportvalencia.es
SUMMARY:VESO
DESCRIPTION:
URL:https://marinaportvalencia.es/en/event/veso/
END:VEVENT
BEGIN:VEVENT
DTSTART;VALUE=DATE:20251017
DTEND;VALUE=DATE:20251018
DTSTAMP:20260423T023708
CREATED:20250917T105900Z
LAST-MODIFIED:20251002T122615Z
UID:1950-1760659200-1760745599@marinaportvalencia.es
SUMMARY:The King of Cork Fishing
DESCRIPTION:
URL:https://marinaportvalencia.es/en/event/the-king-of-cork-fishing/
END:VEVENT
BEGIN:VEVENT
DTSTART;VALUE=DATE:20251004
DTEND;VALUE=DATE:20251005
DTSTAMP:20260423T023708
CREATED:20250917T105953Z
LAST-MODIFIED:20251002T122610Z
UID:1949-1759536000-1759622399@marinaportvalencia.es
SUMMARY:Blackberry
DESCRIPTION:
URL:https://marinaportvalencia.es/en/event/blackberry/
END:VEVENT
BEGIN:VEVENT
DTSTART;VALUE=DATE:20250927
DTEND;VALUE=DATE:20250928
DTSTAMP:20260423T023708
CREATED:20250917T105715Z
LAST-MODIFIED:20251002T122621Z
UID:1952-1758931200-1759017599@marinaportvalencia.es
SUMMARY:University Welcome
DESCRIPTION:
URL:https://marinaportvalencia.es/en/event/university-welcome/
END:VEVENT
BEGIN:VEVENT
DTSTART;VALUE=DATE:20250926
DTEND;VALUE=DATE:20250927
DTSTAMP:20260423T023708
CREATED:20250917T105649Z
LAST-MODIFIED:20250917T105649Z
UID:1958-1758844800-1758931199@marinaportvalencia.es
SUMMARY:Burn Energy Tour
DESCRIPTION:
URL:https://marinaportvalencia.es/en/event/burn-energy-tour/
END:VEVENT
BEGIN:VEVENT
DTSTART;VALUE=DATE:20250922
DTEND;VALUE=DATE:20250923
DTSTAMP:20260423T023708
CREATED:20250917T105818Z
LAST-MODIFIED:20251002T122619Z
UID:1954-1758499200-1758585599@marinaportvalencia.es
SUMMARY:VALENCIA BOAT SHOW
DESCRIPTION:
URL:https://marinaportvalencia.es/en/event/valencia-boat-show/
END:VEVENT
BEGIN:VEVENT
DTSTART;TZID=Europe/Madrid:20250920T080000
DTEND;TZID=Europe/Madrid:20250920T170000
DTSTAMP:20260423T023708
CREATED:20250721T142030Z
LAST-MODIFIED:20250721T142030Z
UID:1957-1758355200-1758387600@marinaportvalencia.es
SUMMARY:Valencia Triathlon
DESCRIPTION:
URL:https://marinaportvalencia.es/en/event/valencia-triathlon/
END:VEVENT
BEGIN:VEVENT
DTSTART;TZID=Europe/Madrid:20250913T080000
DTEND;TZID=Europe/Madrid:20250913T170000
DTSTAMP:20260423T023708
CREATED:20250721T142013Z
LAST-MODIFIED:20250721T142013Z
UID:1963-1757750400-1757782800@marinaportvalencia.es
SUMMARY:Valencia Port Swimming Crossing
DESCRIPTION:
URL:https://marinaportvalencia.es/en/event/valencia-port-swimming-crossing/
END:VEVENT
BEGIN:VEVENT
DTSTART;TZID=Europe/Madrid:20250909T080000
DTEND;TZID=Europe/Madrid:20250909T170000
DTSTAMP:20260423T023708
CREATED:20250721T141947Z
LAST-MODIFIED:20250721T141947Z
UID:1959-1757404800-1757437200@marinaportvalencia.es
SUMMARY:Yacht Moving Regatta
DESCRIPTION:
URL:https://marinaportvalencia.es/en/event/yacht-moving-regatta/
END:VEVENT
BEGIN:VEVENT
DTSTART;TZID=Europe/Madrid:20250826T080000
DTEND;TZID=Europe/Madrid:20250830T170000
DTSTAMP:20260423T023708
CREATED:20250917T111128Z
LAST-MODIFIED:20250917T111128Z
UID:1955-1756195200-1756573200@marinaportvalencia.es
SUMMARY:Vessel Esc. Brazil
DESCRIPTION:
URL:https://marinaportvalencia.es/en/event/vessel-esc-brazil/
END:VEVENT
BEGIN:VEVENT
DTSTART;TZID=Europe/Madrid:20250727T080000
DTEND;TZID=Europe/Madrid:20250727T170000
DTSTAMP:20260423T023708
CREATED:20250917T111335Z
LAST-MODIFIED:20250917T111335Z
UID:1945-1753603200-1753635600@marinaportvalencia.es
SUMMARY:Myke Towers
DESCRIPTION:
URL:https://marinaportvalencia.es/en/event/myke-towers/
END:VEVENT
BEGIN:VEVENT
DTSTART;TZID=Europe/Madrid:20250722T180000
DTEND;TZID=Europe/Madrid:20250722T190000
DTSTAMP:20260423T023708
CREATED:20250721T141923Z
LAST-MODIFIED:20250721T141923Z
UID:1960-1753207200-1753210800@marinaportvalencia.es
SUMMARY:Regatta in Honor of the Navy
DESCRIPTION:
URL:https://marinaportvalencia.es/en/event/regatta-in-honor-of-the-navy/
END:VEVENT
BEGIN:VEVENT
DTSTART;TZID=Europe/Madrid:20250720T210000
DTEND;TZID=Europe/Madrid:20250720T223000
DTSTAMP:20260423T023708
CREATED:20250721T141752Z
LAST-MODIFIED:20250721T141752Z
UID:1962-1753045200-1753050600@marinaportvalencia.es
SUMMARY:Marc Anthony
DESCRIPTION:
URL:https://marinaportvalencia.es/en/event/marc-anthony/
END:VEVENT
BEGIN:VEVENT
DTSTART;TZID=Europe/Madrid:20250712T080000
DTEND;TZID=Europe/Madrid:20250713T170000
DTSTAMP:20260423T023708
CREATED:20250917T111231Z
LAST-MODIFIED:20250917T111231Z
UID:1947-1752307200-1752426000@marinaportvalencia.es
SUMMARY:Dragon Regatta
DESCRIPTION:
URL:https://marinaportvalencia.es/en/event/dragon-regatta/
END:VEVENT
BEGIN:VEVENT
DTSTART;VALUE=DATE:20250712
DTEND;VALUE=DATE:20250713
DTSTAMP:20260423T023708
CREATED:20250917T111300Z
LAST-MODIFIED:20250917T111300Z
UID:1946-1752278400-1752364799@marinaportvalencia.es
SUMMARY:Latin Fest
DESCRIPTION:
URL:https://marinaportvalencia.es/en/event/latin-fest/
END:VEVENT
END:VCALENDAR