BEGIN:VCALENDAR
VERSION:2.0
PRODID:-//Marina Port Valencia - ECPv6.15.17.1//NONSGML v1.0//EN
CALSCALE:GREGORIAN
METHOD:PUBLISH
X-ORIGINAL-URL:https://marinaportvalencia.es
X-WR-CALDESC:Eventos para Marina Port Valencia
REFRESH-INTERVAL;VALUE=DURATION:PT1H
X-Robots-Tag:noindex
X-PUBLISHED-TTL:PT1H
BEGIN:VTIMEZONE
TZID:Europe/Madrid
BEGIN:DAYLIGHT
TZOFFSETFROM:+0100
TZOFFSETTO:+0200
TZNAME:CEST
DTSTART:20240331T010000
END:DAYLIGHT
BEGIN:STANDARD
TZOFFSETFROM:+0200
TZOFFSETTO:+0100
TZNAME:CET
DTSTART:20241027T010000
END:STANDARD
BEGIN:DAYLIGHT
TZOFFSETFROM:+0100
TZOFFSETTO:+0200
TZNAME:CEST
DTSTART:20250330T010000
END:DAYLIGHT
BEGIN:STANDARD
TZOFFSETFROM:+0200
TZOFFSETTO:+0100
TZNAME:CET
DTSTART:20251026T010000
END:STANDARD
BEGIN:DAYLIGHT
TZOFFSETFROM:+0100
TZOFFSETTO:+0200
TZNAME:CEST
DTSTART:20260329T010000
END:DAYLIGHT
BEGIN:STANDARD
TZOFFSETFROM:+0200
TZOFFSETTO:+0100
TZNAME:CET
DTSTART:20261025T010000
END:STANDARD
END:VTIMEZONE
BEGIN:VEVENT
DTSTART;VALUE=DATE:20251214
DTEND;VALUE=DATE:20251215
DTSTAMP:20260423T043515
CREATED:20250917T110026Z
LAST-MODIFIED:20250917T110026Z
UID:1576-1765670400-1765756799@marinaportvalencia.es
SUMMARY:37ª Pas Ras al Port de Valencia
DESCRIPTION:
URL:https://marinaportvalencia.es/event/37a-pas-ras-al-port-de-valencia/
END:VEVENT
BEGIN:VEVENT
DTSTART;TZID=Europe/Madrid:20251024T080000
DTEND;TZID=Europe/Madrid:20251026T170000
DTSTAMP:20260423T043515
CREATED:20250917T105929Z
LAST-MODIFIED:20250917T105929Z
UID:1572-1761292800-1761498000@marinaportvalencia.es
SUMMARY:VESO
DESCRIPTION:
URL:https://marinaportvalencia.es/event/veso/
END:VEVENT
BEGIN:VEVENT
DTSTART;VALUE=DATE:20251017
DTEND;VALUE=DATE:20251018
DTSTAMP:20260423T043515
CREATED:20250917T105900Z
LAST-MODIFIED:20250917T105900Z
UID:1570-1760659200-1760745599@marinaportvalencia.es
SUMMARY:El Rey del Corcheo
DESCRIPTION:
URL:https://marinaportvalencia.es/event/el-rey-del-corcheo/
END:VEVENT
BEGIN:VEVENT
DTSTART;VALUE=DATE:20251004
DTEND;VALUE=DATE:20251005
DTSTAMP:20260423T043515
CREATED:20250917T105953Z
LAST-MODIFIED:20250917T105953Z
UID:1574-1759536000-1759622399@marinaportvalencia.es
SUMMARY:Mora
DESCRIPTION:
URL:https://marinaportvalencia.es/event/mora/
END:VEVENT
BEGIN:VEVENT
DTSTART;VALUE=DATE:20250927
DTEND;VALUE=DATE:20250928
DTSTAMP:20260423T043515
CREATED:20250917T105715Z
LAST-MODIFIED:20250917T105715Z
UID:1566-1758931200-1759017599@marinaportvalencia.es
SUMMARY:Bienvenidas Universitarias
DESCRIPTION:
URL:https://marinaportvalencia.es/event/bienvenidas-universitarias/
END:VEVENT
BEGIN:VEVENT
DTSTART;VALUE=DATE:20250926
DTEND;VALUE=DATE:20250927
DTSTAMP:20260423T043515
CREATED:20250917T105649Z
LAST-MODIFIED:20250917T105649Z
UID:1564-1758844800-1758931199@marinaportvalencia.es
SUMMARY:Burn Energy Tour
DESCRIPTION:
URL:https://marinaportvalencia.es/event/burn-energy-tour/
END:VEVENT
BEGIN:VEVENT
DTSTART;VALUE=DATE:20250922
DTEND;VALUE=DATE:20250923
DTSTAMP:20260423T043515
CREATED:20250917T105818Z
LAST-MODIFIED:20250917T105818Z
UID:1568-1758499200-1758585599@marinaportvalencia.es
SUMMARY:VALENCIA BOAT SHOW
DESCRIPTION:
URL:https://marinaportvalencia.es/event/valencia-boat-show/
END:VEVENT
BEGIN:VEVENT
DTSTART;TZID=Europe/Madrid:20250920T080000
DTEND;TZID=Europe/Madrid:20250920T170000
DTSTAMP:20260423T043515
CREATED:20250721T142030Z
LAST-MODIFIED:20250721T142030Z
UID:864-1758355200-1758387600@marinaportvalencia.es
SUMMARY:Triatlón Valencia
DESCRIPTION:
URL:https://marinaportvalencia.es/event/triatlon-valencia/
END:VEVENT
BEGIN:VEVENT
DTSTART;TZID=Europe/Madrid:20250913T080000
DTEND;TZID=Europe/Madrid:20250913T170000
DTSTAMP:20260423T043515
CREATED:20250721T142013Z
LAST-MODIFIED:20250917T105832Z
UID:862-1757750400-1757782800@marinaportvalencia.es
SUMMARY:Travesía a nado Puerto de Valencia
DESCRIPTION:
URL:https://marinaportvalencia.es/event/travesia-a-nado-puerto-de-valencia/
END:VEVENT
BEGIN:VEVENT
DTSTART;TZID=Europe/Madrid:20250909T080000
DTEND;TZID=Europe/Madrid:20250909T170000
DTSTAMP:20260423T043515
CREATED:20250721T141947Z
LAST-MODIFIED:20250721T141947Z
UID:860-1757404800-1757437200@marinaportvalencia.es
SUMMARY:Regata Yacht Moving
DESCRIPTION:
URL:https://marinaportvalencia.es/event/regata-yacht-moving/
END:VEVENT
BEGIN:VEVENT
DTSTART;TZID=Europe/Madrid:20250826T080000
DTEND;TZID=Europe/Madrid:20250830T170000
DTSTAMP:20260423T043515
CREATED:20250917T111128Z
LAST-MODIFIED:20250917T111128Z
UID:1587-1756195200-1756573200@marinaportvalencia.es
SUMMARY:Buque Esc. Brasil
DESCRIPTION:
URL:https://marinaportvalencia.es/event/buque-esc-brasil/
END:VEVENT
BEGIN:VEVENT
DTSTART;TZID=Europe/Madrid:20250727T080000
DTEND;TZID=Europe/Madrid:20250727T170000
DTSTAMP:20260423T043515
CREATED:20250917T111335Z
LAST-MODIFIED:20250917T111335Z
UID:1593-1753603200-1753635600@marinaportvalencia.es
SUMMARY:Myke Towers
DESCRIPTION:
URL:https://marinaportvalencia.es/event/myke-towers/
END:VEVENT
BEGIN:VEVENT
DTSTART;TZID=Europe/Madrid:20250722T180000
DTEND;TZID=Europe/Madrid:20250722T190000
DTSTAMP:20260423T043515
CREATED:20250721T141923Z
LAST-MODIFIED:20250721T141923Z
UID:858-1753207200-1753210800@marinaportvalencia.es
SUMMARY:Regata homenaje a la Armada
DESCRIPTION:
URL:https://marinaportvalencia.es/event/regata-homenaje-a-la-armada/
END:VEVENT
BEGIN:VEVENT
DTSTART;TZID=Europe/Madrid:20250720T210000
DTEND;TZID=Europe/Madrid:20250720T223000
DTSTAMP:20260423T043515
CREATED:20250721T141752Z
LAST-MODIFIED:20250721T141752Z
UID:856-1753045200-1753050600@marinaportvalencia.es
SUMMARY:Marc Anthony
DESCRIPTION:
URL:https://marinaportvalencia.es/event/marc-anthony/
END:VEVENT
BEGIN:VEVENT
DTSTART;TZID=Europe/Madrid:20250712T080000
DTEND;TZID=Europe/Madrid:20250713T170000
DTSTAMP:20260423T043515
CREATED:20250917T111231Z
LAST-MODIFIED:20250917T111231Z
UID:1589-1752307200-1752426000@marinaportvalencia.es
SUMMARY:Regata Dragon
DESCRIPTION:
URL:https://marinaportvalencia.es/event/regata-dragon/
END:VEVENT
BEGIN:VEVENT
DTSTART;VALUE=DATE:20250712
DTEND;VALUE=DATE:20250713
DTSTAMP:20260423T043515
CREATED:20250917T111300Z
LAST-MODIFIED:20250917T111300Z
UID:1591-1752278400-1752364799@marinaportvalencia.es
SUMMARY:Latin Fest
DESCRIPTION:
URL:https://marinaportvalencia.es/event/latin-fest/
END:VEVENT
END:VCALENDAR